BEGIN:VCALENDAR
VERSION:2.0
PRODID:-//Turnverein Erzingen - ECPv6.15.20//NONSGML v1.0//EN
CALSCALE:GREGORIAN
METHOD:PUBLISH
X-ORIGINAL-URL:https://tv-erzingen.de
X-WR-CALDESC:Veranstaltungen für Turnverein Erzingen
REFRESH-INTERVAL;VALUE=DURATION:PT1H
X-Robots-Tag:noindex
X-PUBLISHED-TTL:PT1H
BEGIN:VTIMEZONE
TZID:UTC
BEGIN:STANDARD
TZOFFSETFROM:+0000
TZOFFSETTO:+0000
TZNAME:UTC
DTSTART:20240101T000000
END:STANDARD
END:VTIMEZONE
BEGIN:VEVENT
DTSTART;TZID=UTC:20260417T000000
DTEND;TZID=UTC:20260419T000000
DTSTAMP:20260424T081926
CREATED:20260421T102532Z
LAST-MODIFIED:20260421T102532Z
UID:6883-1776384000-1776556800@tv-erzingen.de
SUMMARY:Hütte reserviert - (N.F.)
DESCRIPTION:
URL:https://tv-erzingen.de/kalender/huette-reserviert-n-f/
CATEGORIES:Turnerhütte
END:VEVENT
BEGIN:VEVENT
DTSTART;TZID=UTC:20260410T000000
DTEND;TZID=UTC:20260412T000000
DTSTAMP:20260424T081926
CREATED:20260421T102532Z
LAST-MODIFIED:20260421T102532Z
UID:6882-1775779200-1775952000@tv-erzingen.de
SUMMARY:Hütte reserviert - (K.K.)
DESCRIPTION:
URL:https://tv-erzingen.de/kalender/huette-reserviert-k-k/
CATEGORIES:Turnerhütte
END:VEVENT
BEGIN:VEVENT
DTSTART;TZID=UTC:20260402T000000
DTEND;TZID=UTC:20260408T000000
DTSTAMP:20260424T081926
CREATED:20260421T102202Z
LAST-MODIFIED:20260421T102202Z
UID:6847-1775088000-1775606400@tv-erzingen.de
SUMMARY:Hütte reserviert - (TV E)
DESCRIPTION:
URL:https://tv-erzingen.de/kalender/huette-reserviert-tv-e-48/
CATEGORIES:Turnerhütte
END:VEVENT
BEGIN:VEVENT
DTSTART;TZID=UTC:20260327T000000
DTEND;TZID=UTC:20260329T000000
DTSTAMP:20260424T081926
CREATED:20260421T102532Z
LAST-MODIFIED:20260421T102532Z
UID:6886-1774569600-1774742400@tv-erzingen.de
SUMMARY:Hütte reserviert - (A.F.)
DESCRIPTION:
URL:https://tv-erzingen.de/kalender/huette-reserviert-a-f/
CATEGORIES:Turnerhütte
END:VEVENT
BEGIN:VEVENT
DTSTART;TZID=UTC:20260313T000000
DTEND;TZID=UTC:20260315T000000
DTSTAMP:20260424T081926
CREATED:20260421T102547Z
LAST-MODIFIED:20260421T102547Z
UID:6890-1773360000-1773532800@tv-erzingen.de
SUMMARY:Hütte reserviert - (M.M.)
DESCRIPTION:
URL:https://tv-erzingen.de/kalender/huette-reserviert-m-m-2/
CATEGORIES:Turnerhütte
END:VEVENT
BEGIN:VEVENT
DTSTART;TZID=UTC:20260227T000000
DTEND;TZID=UTC:20260301T000000
DTSTAMP:20260424T081926
CREATED:20260421T102503Z
LAST-MODIFIED:20260421T102503Z
UID:6875-1772150400-1772323200@tv-erzingen.de
SUMMARY:Hütte reserviert - (J.C.)
DESCRIPTION:
URL:https://tv-erzingen.de/kalender/huette-reserviert-j-c/
CATEGORIES:Turnerhütte
END:VEVENT
BEGIN:VEVENT
DTSTART;TZID=UTC:20260211T000000
DTEND;TZID=UTC:20260217T000000
DTSTAMP:20260424T081926
CREATED:20260421T102003Z
LAST-MODIFIED:20260421T102003Z
UID:6846-1770768000-1771286400@tv-erzingen.de
SUMMARY:Hütte reserviert - (TV E)
DESCRIPTION:
URL:https://tv-erzingen.de/kalender/huette-reserviert-tv-e-47/
CATEGORIES:Turnerhütte
END:VEVENT
BEGIN:VEVENT
DTSTART;TZID=UTC:20260122T000000
DTEND;TZID=UTC:20260203T000000
DTSTAMP:20260424T081926
CREATED:20260421T101756Z
LAST-MODIFIED:20260421T101756Z
UID:6833-1769040000-1770076800@tv-erzingen.de
SUMMARY:Hütte reserviert - (TV E)
DESCRIPTION:
URL:https://tv-erzingen.de/kalender/huette-reserviert-tv-e-42/
CATEGORIES:Turnerhütte
END:VEVENT
BEGIN:VEVENT
DTSTART;TZID=UTC:20260109T000000
DTEND;TZID=UTC:20260111T000000
DTSTAMP:20260424T081926
CREATED:20260421T102532Z
LAST-MODIFIED:20260421T102532Z
UID:6884-1767916800-1768089600@tv-erzingen.de
SUMMARY:Hütte reserviert - (A.A.)
DESCRIPTION:
URL:https://tv-erzingen.de/kalender/huette-reserviert-a-a-2/
CATEGORIES:Turnerhütte
END:VEVENT
BEGIN:VEVENT
DTSTART;TZID=UTC:20260107T000000
DTEND;TZID=UTC:20260107T000000
DTSTAMP:20260424T081926
CREATED:20260421T102532Z
LAST-MODIFIED:20260421T102532Z
UID:6885-1767744000-1767744000@tv-erzingen.de
SUMMARY:Hütte reserviert - (TV E) Sitzung
DESCRIPTION:
URL:https://tv-erzingen.de/kalender/huette-reserviert-tv-e-sitzung/
CATEGORIES:Turnerhütte
END:VEVENT
BEGIN:VEVENT
DTSTART;TZID=UTC:20251229T000000
DTEND;TZID=UTC:20251229T000000
DTSTAMP:20260424T081926
CREATED:20260421T130000Z
LAST-MODIFIED:20260421T130000Z
UID:7132-1766966400-1766966400@tv-erzingen.de
SUMMARY:Kein Training in Gemeindehalle möglich / Blutspenden
DESCRIPTION:
URL:https://tv-erzingen.de/kalender/kein-training-in-gemeindehalle-moeglich-blutspenden-4/
CATEGORIES:Allgemein
END:VEVENT
BEGIN:VEVENT
DTSTART;TZID=UTC:20251219T000000
DTEND;TZID=UTC:20260106T000000
DTSTAMP:20260424T081926
CREATED:20260421T101646Z
LAST-MODIFIED:20260421T101646Z
UID:6812-1766102400-1767657600@tv-erzingen.de
SUMMARY:Hütte reserviert - (TVE)
DESCRIPTION:
URL:https://tv-erzingen.de/kalender/huette-reserviert-tve-9/
CATEGORIES:Turnerhütte
END:VEVENT
BEGIN:VEVENT
DTSTART;TZID=UTC:20251212T000000
DTEND;TZID=UTC:20251214T000000
DTSTAMP:20260424T081926
CREATED:20260421T102503Z
LAST-MODIFIED:20260421T102503Z
UID:6874-1765497600-1765670400@tv-erzingen.de
SUMMARY:Hütte reserviert - (A.R.)
DESCRIPTION:
URL:https://tv-erzingen.de/kalender/huette-reserviert-a-r-2/
CATEGORIES:Turnerhütte
END:VEVENT
BEGIN:VEVENT
DTSTART;TZID=UTC:20251205T000000
DTEND;TZID=UTC:20251207T000000
DTSTAMP:20260424T081926
CREATED:20260421T101812Z
LAST-MODIFIED:20260421T101812Z
UID:6840-1764892800-1765065600@tv-erzingen.de
SUMMARY:Hütte reserviert - (TV E)
DESCRIPTION:
URL:https://tv-erzingen.de/kalender/huette-reserviert-tv-e-43/
CATEGORIES:Turnerhütte
END:VEVENT
BEGIN:VEVENT
DTSTART;TZID=UTC:20251128T000000
DTEND;TZID=UTC:20251130T000000
DTSTAMP:20260424T081926
CREATED:20260421T101637Z
LAST-MODIFIED:20260421T101637Z
UID:6811-1764288000-1764460800@tv-erzingen.de
SUMMARY:Hütte reserviert - (TV E)
DESCRIPTION:
URL:https://tv-erzingen.de/kalender/huette-reserviert-tv-e-35/
CATEGORIES:Turnerhütte
END:VEVENT
BEGIN:VEVENT
DTSTART;TZID=UTC:20251125T000000
DTEND;TZID=UTC:20251126T000000
DTSTAMP:20260424T081926
CREATED:20260421T101727Z
LAST-MODIFIED:20260421T101727Z
UID:6817-1764028800-1764115200@tv-erzingen.de
SUMMARY:Hütte reserviert - (T.I.)
DESCRIPTION:
URL:https://tv-erzingen.de/kalender/huette-reserviert-t-i-5/
CATEGORIES:Turnerhütte
END:VEVENT
BEGIN:VEVENT
DTSTART;TZID=UTC:20251121T000000
DTEND;TZID=UTC:20251123T000000
DTSTAMP:20260424T081926
CREATED:20260421T101647Z
LAST-MODIFIED:20260421T101647Z
UID:6816-1763683200-1763856000@tv-erzingen.de
SUMMARY:Hütte reserviert - (C.M.)
DESCRIPTION:
URL:https://tv-erzingen.de/kalender/huette-reserviert-c-m-5/
CATEGORIES:Turnerhütte
END:VEVENT
BEGIN:VEVENT
DTSTART;TZID=UTC:20251114T000000
DTEND;TZID=UTC:20251116T000000
DTSTAMP:20260424T081926
CREATED:20260421T102417Z
LAST-MODIFIED:20260421T102417Z
UID:6859-1763078400-1763251200@tv-erzingen.de
SUMMARY:Hütte reserviert - (C.C.)
DESCRIPTION:
URL:https://tv-erzingen.de/kalender/huette-reserviert-c-c-2/
CATEGORIES:Turnerhütte
END:VEVENT
BEGIN:VEVENT
DTSTART;TZID=UTC:20251107T000000
DTEND;TZID=UTC:20251109T000000
DTSTAMP:20260424T081926
CREATED:20260421T102448Z
LAST-MODIFIED:20260421T102448Z
UID:6870-1762473600-1762646400@tv-erzingen.de
SUMMARY:Hütte reserviert - (M.T.)
DESCRIPTION:
URL:https://tv-erzingen.de/kalender/huette-reserviert-m-t-3/
CATEGORIES:Turnerhütte
END:VEVENT
BEGIN:VEVENT
DTSTART;TZID=UTC:20251107T000000
DTEND;TZID=UTC:20251108T000000
DTSTAMP:20260424T081926
CREATED:20260421T102448Z
LAST-MODIFIED:20260421T102448Z
UID:6869-1762473600-1762560000@tv-erzingen.de
SUMMARY:Hütte reserviert - (M.T)
DESCRIPTION:
URL:https://tv-erzingen.de/kalender/huette-reserviert-m-t-2/
CATEGORIES:Turnerhütte
END:VEVENT
BEGIN:VEVENT
DTSTART;TZID=UTC:20251031T000000
DTEND;TZID=UTC:20251102T000000
DTSTAMP:20260424T081926
CREATED:20260421T102002Z
LAST-MODIFIED:20260421T102002Z
UID:6845-1761868800-1762041600@tv-erzingen.de
SUMMARY:Hütte reserviert - (J.S.)
DESCRIPTION:
URL:https://tv-erzingen.de/kalender/huette-reserviert-j-s-6/
CATEGORIES:Turnerhütte
END:VEVENT
BEGIN:VEVENT
DTSTART;TZID=UTC:20251024T000000
DTEND;TZID=UTC:20251026T000000
DTSTAMP:20260424T081926
CREATED:20260421T101741Z
LAST-MODIFIED:20260421T101741Z
UID:6830-1761264000-1761436800@tv-erzingen.de
SUMMARY:Hütte reserviert - (C.M.)
DESCRIPTION:
URL:https://tv-erzingen.de/kalender/huette-reserviert-c-m-6/
CATEGORIES:Turnerhütte
END:VEVENT
BEGIN:VEVENT
DTSTART;TZID=UTC:20251017T000000
DTEND;TZID=UTC:20251018T000000
DTSTAMP:20260424T081926
CREATED:20260421T102002Z
LAST-MODIFIED:20260421T102002Z
UID:6844-1760659200-1760745600@tv-erzingen.de
SUMMARY:Hütte reserviert - (J.G.)
DESCRIPTION:
URL:https://tv-erzingen.de/kalender/huette-reserviert-j-g/
CATEGORIES:Turnerhütte
END:VEVENT
BEGIN:VEVENT
DTSTART;TZID=UTC:20251010T000000
DTEND;TZID=UTC:20251011T000000
DTSTAMP:20260424T081926
CREATED:20260421T102448Z
LAST-MODIFIED:20260421T102448Z
UID:6871-1760054400-1760140800@tv-erzingen.de
SUMMARY:Hütte reserviert - (R.L.)
DESCRIPTION:
URL:https://tv-erzingen.de/kalender/huette-reserviert-r-l-2/
CATEGORIES:Turnerhütte
END:VEVENT
BEGIN:VEVENT
DTSTART;TZID=UTC:20251003T000000
DTEND;TZID=UTC:20251005T000000
DTSTAMP:20260424T081926
CREATED:20260421T101756Z
LAST-MODIFIED:20260421T101756Z
UID:6832-1759449600-1759622400@tv-erzingen.de
SUMMARY:Hütte reserviert - (TV E)
DESCRIPTION:
URL:https://tv-erzingen.de/kalender/huette-reserviert-tv-e-41/
CATEGORIES:Turnerhütte
END:VEVENT
BEGIN:VEVENT
DTSTART;TZID=UTC:20250926T000000
DTEND;TZID=UTC:20250928T000000
DTSTAMP:20260424T081926
CREATED:20260421T101627Z
LAST-MODIFIED:20260421T101627Z
UID:6805-1758844800-1759017600@tv-erzingen.de
SUMMARY:Hütte reserviert - (S.G-R.)
DESCRIPTION:
URL:https://tv-erzingen.de/kalender/huette-reserviert-s-g-r/
CATEGORIES:Turnerhütte
END:VEVENT
BEGIN:VEVENT
DTSTART;TZID=UTC:20250924T000000
DTEND;TZID=UTC:20250924T000000
DTSTAMP:20260424T081926
CREATED:20260421T102417Z
LAST-MODIFIED:20260421T102417Z
UID:6858-1758672000-1758672000@tv-erzingen.de
SUMMARY:Hütte reserviert - (Abschluss Liga Schülerinnen)
DESCRIPTION:
URL:https://tv-erzingen.de/kalender/huette-reserviert-abschluss-liga-schuelerinnen-2/
CATEGORIES:Turnerhütte
END:VEVENT
BEGIN:VEVENT
DTSTART;TZID=UTC:20250919T000000
DTEND;TZID=UTC:20250921T000000
DTSTAMP:20260424T081926
CREATED:20260421T101637Z
LAST-MODIFIED:20260421T101637Z
UID:6810-1758240000-1758412800@tv-erzingen.de
SUMMARY:Hütte reserviert - (A.G.)
DESCRIPTION:
URL:https://tv-erzingen.de/kalender/huette-reserviert-a-g/
CATEGORIES:Turnerhütte
END:VEVENT
BEGIN:VEVENT
DTSTART;TZID=UTC:20250919T000000
DTEND;TZID=UTC:20250919T000000
DTSTAMP:20260424T081926
CREATED:20260421T130000Z
LAST-MODIFIED:20260421T130000Z
UID:7133-1758240000-1758240000@tv-erzingen.de
SUMMARY:Kein Training in Gemeindehalle möglich / Aufbau Winzerfest
DESCRIPTION:
URL:https://tv-erzingen.de/kalender/kein-training-in-gemeindehalle-moeglich-aufbau-winzerfest/
CATEGORIES:Allgemein
END:VEVENT
BEGIN:VEVENT
DTSTART;TZID=UTC:20250917T000000
DTEND;TZID=UTC:20250917T000000
DTSTAMP:20260424T081926
CREATED:20260421T102416Z
LAST-MODIFIED:20260421T102416Z
UID:6857-1758067200-1758067200@tv-erzingen.de
SUMMARY:Hütte reserviert - (Abschluss Liga Schülerinnen)
DESCRIPTION:
URL:https://tv-erzingen.de/kalender/huette-reserviert-abschluss-liga-schuelerinnen/
CATEGORIES:Turnerhütte
END:VEVENT
END:VCALENDAR